BEGIN:VCALENDAR
VERSION:2.0
PRODID:-//Indo American Center - ECPv6.15.20//NONSGML v1.0//EN
CALSCALE:GREGORIAN
METHOD:PUBLISH
X-ORIGINAL-URL:https://indoamerican.org
X-WR-CALDESC:Events for Indo American Center
REFRESH-INTERVAL;VALUE=DURATION:PT1H
X-Robots-Tag:noindex
X-PUBLISHED-TTL:PT1H
BEGIN:VTIMEZONE
TZID:UTC
BEGIN:STANDARD
TZOFFSETFROM:+0000
TZOFFSETTO:+0000
TZNAME:UTC
DTSTART:20240101T000000
END:STANDARD
END:VTIMEZONE
BEGIN:VEVENT
DTSTART;TZID=UTC:20251009T110000
DTEND;TZID=UTC:20251009T153000
DTSTAMP:20260424T152759
CREATED:20250903T225821Z
LAST-MODIFIED:20250903T225902Z
UID:5208-1760007600-1760023800@indoamerican.org
SUMMARY:Citizenship Classes - Registration - Last Day! Hurry!!
DESCRIPTION:
URL:https://indoamerican.org/event/citizenship-classes-registration-last-day-hurry/
LOCATION:Indo-American Center
CATEGORIES:Citizenship Classes
END:VEVENT
BEGIN:VEVENT
DTSTART;TZID=UTC:20251007T110000
DTEND;TZID=UTC:20251007T153000
DTSTAMP:20260424T152759
CREATED:20250903T225629Z
LAST-MODIFIED:20250903T225629Z
UID:5201-1759834800-1759851000@indoamerican.org
SUMMARY:Citizenship Classes - Registration
DESCRIPTION:
URL:https://indoamerican.org/event/citizenship-classes-registration-2/
LOCATION:Indo-American Center
CATEGORIES:Citizenship Classes
END:VEVENT
BEGIN:VEVENT
DTSTART;TZID=UTC:20251006T110000
DTEND;TZID=UTC:20251006T153000
DTSTAMP:20260424T152759
CREATED:20250903T225543Z
LAST-MODIFIED:20250903T225543Z
UID:5197-1759748400-1759764600@indoamerican.org
SUMMARY:Citizenship Classes - Registration
DESCRIPTION:
URL:https://indoamerican.org/event/citizenship-classes-registration/
LOCATION:Indo-American Center
CATEGORIES:Citizenship Classes
END:VEVENT
BEGIN:VEVENT
DTSTART;TZID=UTC:20250811T140000
DTEND;TZID=UTC:20250811T153000
DTSTAMP:20260424T152759
CREATED:20250804T191946Z
LAST-MODIFIED:20250804T192006Z
UID:5089-1754920800-1754926200@indoamerican.org
SUMMARY:No Regular Citizenship Class
DESCRIPTION:No Citizenship Classes
URL:https://indoamerican.org/event/no-regular-citizenship-class-2/
LOCATION:Indo-American Center
CATEGORIES:Citizenship Classes
END:VEVENT
BEGIN:VEVENT
DTSTART;TZID=UTC:20250811T120000
DTEND;TZID=UTC:20250811T133000
DTSTAMP:20260424T152759
CREATED:20250804T192905Z
LAST-MODIFIED:20250804T192917Z
UID:5091-1754913600-1754919000@indoamerican.org
SUMMARY:No Fastrack Citizenship Class
DESCRIPTION:No Citizenship Classes
URL:https://indoamerican.org/event/no-fastrack-citizenship-class/
LOCATION:Indo-American Center
CATEGORIES:Citizenship Classes
END:VEVENT
BEGIN:VEVENT
DTSTART;TZID=UTC:20250806T140000
DTEND;TZID=UTC:20250806T153000
DTSTAMP:20260424T152759
CREATED:20250804T191838Z
LAST-MODIFIED:20250804T191838Z
UID:5087-1754488800-1754494200@indoamerican.org
SUMMARY:No Regular Citizenship Class
DESCRIPTION:No Citizenship Classes
URL:https://indoamerican.org/event/no-regular-citizenship-class/
LOCATION:Indo-American Center
CATEGORIES:Citizenship Classes
END:VEVENT
BEGIN:VEVENT
DTSTART;TZID=UTC:20250806T120000
DTEND;TZID=UTC:20250806T133000
DTSTAMP:20260424T152759
CREATED:20250804T191712Z
LAST-MODIFIED:20250804T191712Z
UID:5083-1754481600-1754487000@indoamerican.org
SUMMARY:No Fastrack Citizenship Classes
DESCRIPTION:No Citizenship Classes
URL:https://indoamerican.org/event/no-fastrack-citizenship-classes/
LOCATION:Indo-American Center
CATEGORIES:Citizenship Classes
END:VEVENT
END:VCALENDAR